Workbook

Sheet 鍵生成
A1: RSA 公開鍵暗号方式の、暗号化、復号、鍵の計算 | G1: 福山大学 山之上 卓 | J1: 2015/10/13
A2: *は入力を表す。
A4: 鍵を作る。公開鍵は {n, e} , 秘密鍵は{n,d} | F4: 公開鍵{n,e}を使って平文Mを暗号化 | K4: 秘密鍵{n,d}を使って暗号文Cを復号
A5: *素数1 p= | B5: 19
A6: *素数2 q= | B6: 23 | F6: *平文 M= | G6: 97 | K6: 暗号文 C= | L6: =G9 -> 136
A7: n=p*q= | B7: =B5*B6 -> 437 | F7: (Mは nより小さな整数)
A8: L=lcm(p-1,q-1) | F8: 暗号文 C=(M^e )(mod n) | K8: 平文 M=(C^d)(mod n)
A9: = | B9: =LCM((B5-1),(B6-1)) -> 198 | F9: = | G9: =VLOOKUP(B10,F20:G161,2,FALSE) -> 136 | K9: = | L9: =VLOOKUP(B14,K20:L177,2) -> 97
A10: *e= | B10: 13
A11: eは Lとは互いに素で Lより小さい
A12: gcd(e,L)= | B12: =GCD(B10,B9) -> 1 | C12: は1でなければならない (これが 1になるまで、異なる p,q, e を選ぶこと)
A14: d= | B14: =VLOOKUP(1,A20:B228,2,FALSE) -> 61
A15: ここで 1=ed (mod L)
F17: Cの計算のための表 | K17: Mの計算のための表
A18: d の計算のための表 | G18: C=(M^e)(mod n) | L18: M=(C^d)(mod n)
A19: ed (mod L) | B19: d … 以下をあらかじめ与えておく。 | F19: e | G19: =(M*M')( mod n) …. M'はe-1のときの C | K19: d | L19: =(C*C')( mod n) …. C'はd-1のときの M
A20: =MOD(B$10*B20,B$9) -> 13 | B20: 1 | F20: 1 | G20: =MOD(G$6,$B$7) -> 97 | K20: 1 | L20: =MOD(L$6,$B$7) -> 136
A21: =MOD(B$10*B21,B$9) -> 26 | B21: =B20+1 -> 2 | F21: =F20+1 -> 2 | G21: =MOD(G$6*G20,$B$7) -> 232 | K21: =K20+1 -> 2 | L21: =MOD(L$6*L20,$B$7) -> 142
A22: =MOD(B$10*B22,B$9) -> 39 | B22: =B21+1 -> 3 | F22: =F21+1 -> 3 | G22: =MOD(G$6*G21,$B$7) -> 217 | K22: =K21+1 -> 3 | L22: =MOD(L$6*L21,$B$7) -> 84
A23: =MOD(B$10*B23,B$9) -> 52 | B23: =B22+1 -> 4 | F23: =F22+1 -> 4 | G23: =MOD(G$6*G22,$B$7) -> 73 | K23: =K22+1 -> 4 | L23: =MOD(L$6*L22,$B$7) -> 62
A24: =MOD(B$10*B24,B$9) -> 65 | B24: =B23+1 -> 5 | F24: =F23+1 -> 5 | G24: =MOD(G$6*G23,$B$7) -> 89 | K24: =K23+1 -> 5 | L24: =MOD(L$6*L23,$B$7) -> 129
A25: =MOD(B$10*B25,B$9) -> 78 | B25: =B24+1 -> 6 | F25: =F24+1 -> 6 | G25: =MOD(G$6*G24,$B$7) -> 330 | K25: =K24+1 -> 6 | L25: =MOD(L$6*L24,$B$7) -> 64
A26: =MOD(B$10*B26,B$9) -> 91 | B26: =B25+1 -> 7 | F26: =F25+1 -> 7 | G26: =MOD(G$6*G25,$B$7) -> 109 | K26: =K25+1 -> 7 | L26: =MOD(L$6*L25,$B$7) -> 401
A27: =MOD(B$10*B27,B$9) -> 104 | B27: =B26+1 -> 8 | F27: =F26+1 -> 8 | G27: =MOD(G$6*G26,$B$7) -> 85 | K27: =K26+1 -> 8 | L27: =MOD(L$6*L26,$B$7) -> 348
A28: =MOD(B$10*B28,B$9) -> 117 | B28: =B27+1 -> 9 | F28: =F27+1 -> 9 | G28: =MOD(G$6*G27,$B$7) -> 379 | K28: =K27+1 -> 9 | L28: =MOD(L$6*L27,$B$7) -> 132
A29: =MOD(B$10*B29,B$9) -> 130 | B29: =B28+1 -> 10 | F29: =F28+1 -> 10 | G29: =MOD(G$6*G28,$B$7) -> 55 | K29: =K28+1 -> 10 | L29: =MOD(L$6*L28,$B$7) -> 35
A30: =MOD(B$10*B30,B$9) -> 143 | B30: =B29+1 -> 11 | F30: =F29+1 -> 11 | G30: =MOD(G$6*G29,$B$7) -> 91 | K30: =K29+1 -> 11 | L30: =MOD(L$6*L29,$B$7) -> 390
A31: =MOD(B$10*B31,B$9) -> 156 | B31: =B30+1 -> 12 | F31: =F30+1 -> 12 | G31: =MOD(G$6*G30,$B$7) -> 87 | K31: =K30+1 -> 12 | L31: =MOD(L$6*L30,$B$7) -> 163
A32: =MOD(B$10*B32,B$9) -> 169 | B32: =B31+1 -> 13 | F32: =F31+1 -> 13 | G32: =MOD(G$6*G31,$B$7) -> 136 | K32: =K31+1 -> 13 | L32: =MOD(L$6*L31,$B$7) -> 318
... A154: =MOD(B$10*B154,B$9) -> 171 | B154: =B153+1 -> 135 | F154: =F153+1 -> 135 | G154: =MOD(G$6*G153,$B$7) -> 56 | K154: =K153+1 -> 135 | L154: =MOD(L$6*L153,$B$7) -> 360
A155: =MOD(B$10*B155,B$9) -> 184 | B155: =B154+1 -> 136 | F155: =F154+1 -> 136 | K155: =K154+1 -> 136 | L155: =MOD(L$6*L154,$B$7) -> 16
A156: =MOD(B$10*B156,B$9) -> 197 | B156: =B155+1 -> 137 | F156: =F155+1 -> 137 | K156: =K155+1 -> 137 | L156: =MOD(L$6*L155,$B$7) -> 428
A157: =MOD(B$10*B157,B$9) -> 12 | B157: =B156+1 -> 138 | F157: =F156+1 -> 138 | K157: =K156+1 -> 138 | L157: =MOD(L$6*L156,$B$7) -> 87
A158: =MOD(B$10*B158,B$9) -> 25 | B158: =B157+1 -> 139 | F158: =F157+1 -> 139 | K158: =K157+1 -> 139 | L158: =MOD(L$6*L157,$B$7) -> 33
A159: =MOD(B$10*B159,B$9) -> 38 | B159: =B158+1 -> 140 | F159: =F158+1 -> 140 | K159: =K158+1 -> 140 | L159: =MOD(L$6*L158,$B$7) -> 118
A160: =MOD(B$10*B160,B$9) -> 51 | B160: =B159+1 -> 141 | F160: =F159+1 -> 141 | K160: =K159+1 -> 141 | L160: =MOD(L$6*L159,$B$7) -> 316
A161: =MOD(B$10*B161,B$9) -> 64 | B161: =B160+1 -> 142 | F161: =F160+1 -> 142 | K161: =K160+1 -> 142 | L161: =MOD(L$6*L160,$B$7) -> 150
A162: =MOD(B$10*B162,B$9) -> 77 | B162: =B161+1 -> 143 | K162: =K161+1 -> 143 | L162: =MOD(L$6*L161,$B$7) -> 298
A163: =MOD(B$10*B163,B$9) -> 90 | B163: =B162+1 -> 144 | K163: =K162+1 -> 144 | L163: =MOD(L$6*L162,$B$7) -> 324
A164: =MOD(B$10*B164,B$9) -> 103 | B164: =B163+1 -> 145 | K164: =K163+1 -> 145 | L164: =MOD(L$6*L163,$B$7) -> 364
A165: =MOD(B$10*B165,B$9) -> 116 | B165: =B164+1 -> 146 | K165: =K164+1 -> 146 | L165: =MOD(L$6*L164,$B$7) -> 123
A166: =MOD(B$10*B166,B$9) -> 129 | B166: =B165+1 -> 147 | K166: =K165+1 -> 147 | L166: =MOD(L$6*L165,$B$7) -> 122
A167: =MOD(B$10*B167,B$9) -> 142 | B167: =B166+1 -> 148 | K167: =K166+1 -> 148 | L167: =MOD(L$6*L166,$B$7) -> 423
A168: =MOD(B$10*B168,B$9) -> 155 | B168: =B167+1 -> 149 | K168: =K167+1 -> 149 | L168: =MOD(L$6*L167,$B$7) -> 281
A169: =MOD(B$10*B169,B$9) -> 168 | B169: =B168+1 -> 150 | K169: =K168+1 -> 150 | L169: =MOD(L$6*L168,$B$7) -> 197
A170: =MOD(B$10*B170,B$9) -> 181 | B170: =B169+1 -> 151 | K170: =K169+1 -> 151 | L170: =MOD(L$6*L169,$B$7) -> 135
A171: =MOD(B$10*B171,B$9) -> 194 | B171: =B170+1 -> 152 | K171: =K170+1 -> 152 | L171: =MOD(L$6*L170,$B$7) -> 6
A172: =MOD(B$10*B172,B$9) -> 9 | B172: =B171+1 -> 153 | K172: =K171+1 -> 153 | L172: =MOD(L$6*L171,$B$7) -> 379
A173: =MOD(B$10*B173,B$9) -> 22 | B173: =B172+1 -> 154 | K173: =K172+1 -> 154 | L173: =MOD(L$6*L172,$B$7) -> 415
... A177: =MOD(B$10*B177,B$9) -> 74 | B177: =B176+1 -> 158 | K177: =K176+1 -> 158 | L177: =MOD(L$6*L176,$B$7) -> 384
A178: =MOD(B$10*B178,B$9) -> 87 | B178: =B177+1 -> 159
A179: =MOD(B$10*B179,B$9) -> 100 | B179: =B178+1 -> 160
A180: =MOD(B$10*B180,B$9) -> 113 | B180: =B179+1 -> 161
A181: =MOD(B$10*B181,B$9) -> 126 | B181: =B180+1 -> 162
A182: =MOD(B$10*B182,B$9) -> 139 | B182: =B181+1 -> 163
A183: =MOD(B$10*B183,B$9) -> 152 | B183: =B182+1 -> 164
A184: =MOD(B$10*B184,B$9) -> 165 | B184: =B183+1 -> 165
A185: =MOD(B$10*B185,B$9) -> 178 | B185: =B184+1 -> 166
A186: =MOD(B$10*B186,B$9) -> 191 | B186: =B185+1 -> 167
A187: =MOD(B$10*B187,B$9) -> 6 | B187: =B186+1 -> 168
A188: =MOD(B$10*B188,B$9) -> 19 | B188: =B187+1 -> 169
A189: =MOD(B$10*B189,B$9) -> 32 | B189: =B188+1 -> 170
... A364: =MOD(B$10*B364,B$9) -> 129 | B364: =B363+1 -> 345

Sheet 暗号化・復号例
A1: 実際にRSAで英文を暗号化して、復号してみる。
A2: （実際にこれをやると簡単に破られますが）一文字ずつ、暗号化、復号
A3: 公開鍵, 秘密鍵は、「鍵生成」のシートで作成したものを利用。暗号化、復号の計算に、各文字ごとに、表(code-x)を作成。
A5: 入力分の文字の場所 | B5: 1 | C5: =B5+1 -> 2 | D5: =C5+1 -> 3 | E5: =D5+1 -> 4 | F5: =E5+1 -> 5 | G5: =F5+1 -> 6 | H5: =G5+1 -> 7 | I5: =H5+1 -> 8 | J5: =I5+1 -> 9 | ... M5: =L5+1 -> 12
A6: 入力 | B6: H | C6: e | D6: l | E6: l | F6: o | H6: w | I6: o | J6: r | K6: l | L6: d | M6: !
A7: ASCII-code, 10進 | B7: =CODE(B6) -> 72 | C7: =CODE(C6) -> 101 | D7: =CODE(D6) -> 108 | E7: =CODE(E6) -> 108 | F7: =CODE(F6) -> 111 | G7: =CODE(G6) -> 32 | H7: =CODE(H6) -> 119 | I7: =CODE(I6) -> 111 | ... M7: =CODE(M6) -> 33
A8: 暗号文の場所 | B8: ="'code-"&B5&"'!B7" -> 'code-1'!B7 | C8: ="'code-"&C5&"'!B7" -> 'code-2'!B7 | D8: ="'code-"&D5&"'!B7" -> 'code-3'!B7 | E8: ="'code-"&E5&"'!B7" -> 'code-4'!B7 | F8: ="'code-"&F5&"'!B7" -> 'code-5'!B7 | G8: ="'code-"&G5&"'!B7" -> 'code-6'!B7 | H8: ="'code-"&H5&"'!B7" -> 'code-7'!B7 | I8: ="'code-"&I5&"'!B7" -> 'code-8'!B7 | ... M8: ="'code-"&M5&"'!B7" -> 'code-12'!B7
A9: 暗号文 | B9: =INDIRECT(B8) -> 124 | C9: =INDIRECT(C8) -> 403 | D9: =INDIRECT(D8) -> 72 | E9: =INDIRECT(E8) -> 72 | F9: =INDIRECT(F8) -> 214 | G9: =INDIRECT(G8) -> 357 | H9: =INDIRECT(H8) -> 131 | I9: =INDIRECT(I8) -> 214 | ... M9: =INDIRECT(M8) -> 268
A11: 復号した平文の場所 | B11: ="'code-"&B5&"'!G7" -> 'code-1'!G7 | C11: ="'code-"&C5&"'!G7" -> 'code-2'!G7 | D11: ="'code-"&D5&"'!G7" -> 'code-3'!G7 | E11: ="'code-"&E5&"'!G7" -> 'code-4'!G7 | F11: ="'code-"&F5&"'!G7" -> 'code-5'!G7 | G11: ="'code-"&G5&"'!G7" -> 'code-6'!G7 | H11: ="'code-"&H5&"'!G7" -> 'code-7'!G7 | I11: ="'code-"&I5&"'!G7" -> 'code-8'!G7 | ... M11: ="'code-"&M5&"'!G7" -> 'code-12'!G7
A12: 復号した平文の10進のASCII code | B12: =INDIRECT(B11) -> 72 | C12: =INDIRECT(C11) -> 101 | D12: =INDIRECT(D11) -> 108 | E12: =INDIRECT(E11) -> 108 | F12: =INDIRECT(F11) -> 111 | G12: =INDIRECT(G11) -> 32 | H12: =INDIRECT(H11) -> 119 | I12: =INDIRECT(I11) -> 111 | ... M12: =INDIRECT(M11) -> 33
A13: 復号した文字 | B13: =CHAR(B12) -> H | C13: =CHAR(C12) -> e | D13: =CHAR(D12) -> l | E13: =CHAR(E12) -> l | F13: =CHAR(F12) -> o | G13: =CHAR(G12) | H13: =CHAR(H12) -> w | I13: =CHAR(I12) -> o | ... M13: =CHAR(M12) -> !

Sheet code-1
A2: 公開鍵{n,e}を使って平文Mを暗号化 | F2: 秘密鍵{n,d}を使って暗号文Cを復号
A4: *平文 M= | B4: =K8 -> 72 | F4: 暗号文 C= | G4: =B7 -> 124 | J4: このシート名 | K4: =RIGHT(CELL("filename",A2),LEN(CELL("filename",A2))-FIND("]",CELL("filename",A2))) -> code-1
A5: (Mは nより小さな整数) | J5: 番号 | K5: =MID(K4,6,LEN(K4)-5) -> 1
A6: 暗号文 C=(M^e )(mod n) | F6: 平文 M=(C^d)(mod n) | J6: このシートが担当する文字
A7: = | B7: =VLOOKUP(B10,A18:B220,2,FALSE) -> 124 | F7: = | G7: =VLOOKUP(B11,F18:G220,2) -> 72 | J7: 場所 | K7: ="暗号化・復号例!"&CHAR(CODE("A")+K5)&"7" -> 暗号化・復号例!B7
J8: 文字 | K8: =INDIRECT(K7) -> 72
A9: n= | B9: =鍵生成!B7 -> 437
A10: e= | B10: =鍵生成!B10 -> 13
A11: d= | B11: =鍵生成!B14 -> 61
A16: Cの計算のための表 | F16: Mの計算のための表
A17: e | B17: C=(M^e)(mod n)=(M*M')( mod n) …. M'はe-1のときの C | F17: d | G17: M=(C^d)(mod n)=(C*C')( mod n) …. C'はd-1のときの M
A18: 1 | B18: =MOD(B$4,B9) -> 72 | F18: 1 | G18: =MOD(G$4,B9) -> 124
A19: =A18+1 -> 2 | B19: =MOD(B$4*B18,B$9) -> 377 | F19: =F18+1 -> 2 | G19: =MOD(G$4*G18,B$9) -> 81
A20: =A19+1 -> 3 | B20: =MOD(B$4*B19,B$9) -> 50 | F20: =F19+1 -> 3 | G20: =MOD(G$4*G19,B$9) -> 430
A21: =A20+1 -> 4 | B21: =MOD(B$4*B20,B$9) -> 104 | F21: =F20+1 -> 4 | G21: =MOD(G$4*G20,B$9) -> 6
A22: =A21+1 -> 5 | B22: =MOD(B$4*B21,B$9) -> 59 | F22: =F21+1 -> 5 | G22: =MOD(G$4*G21,B$9) -> 307
A23: =A22+1 -> 6 | B23: =MOD(B$4*B22,B$9) -> 315 | F23: =F22+1 -> 6 | G23: =MOD(G$4*G22,B$9) -> 49
A24: =A23+1 -> 7 | B24: =MOD(B$4*B23,B$9) -> 393 | F24: =F23+1 -> 7 | G24: =MOD(G$4*G23,B$9) -> 395
A25: =A24+1 -> 8 | B25: =MOD(B$4*B24,B$9) -> 328 | F25: =F24+1 -> 8 | G25: =MOD(G$4*G24,B$9) -> 36
A26: =A25+1 -> 9 | B26: =MOD(B$4*B25,B$9) -> 18 | F26: =F25+1 -> 9 | G26: =MOD(G$4*G25,B$9) -> 94
A27: =A26+1 -> 10 | B27: =MOD(B$4*B26,B$9) -> 422 | F27: =F26+1 -> 10 | G27: =MOD(G$4*G26,B$9) -> 294
A28: =A27+1 -> 11 | B28: =MOD(B$4*B27,B$9) -> 231 | F28: =F27+1 -> 11 | G28: =MOD(G$4*G27,B$9) -> 185
A29: =A28+1 -> 12 | B29: =MOD(B$4*B28,B$9) -> 26 | F29: =F28+1 -> 12 | G29: =MOD(G$4*G28,B$9) -> 216
A30: =A29+1 -> 13 | B30: =MOD(B$4*B29,B$9) -> 124 | F30: =F29+1 -> 13 | G30: =MOD(G$4*G29,B$9) -> 127
... A220: =A219+1 -> 203 | B220: =MOD(B$4*B219,B$9) -> 59 | F220: =F219+1 -> 203 | G220: =MOD(G$4*G219,B$9) -> 307

Sheet code-2
A2: 公開鍵{n,e}を使って平文Mを暗号化 | F2: 秘密鍵{n,d}を使って暗号文Cを復号
A4: *平文 M= | B4: =K8 -> 101 | F4: 暗号文 C= | G4: =B7 -> 403 | J4: このシート名 | K4: =RIGHT(CELL("filename",A2),LEN(CELL("filename",A2))-FIND("]",CELL("filename",A2))) -> code-2
A5: (Mは nより小さな整数) | J5: 番号 | K5: =MID(K4,6,LEN(K4)-5) -> 2
A6: 暗号文 C=(M^e )(mod n) | F6: 平文 M=(C^d)(mod n) | J6: このシートが担当する文字
A7: = | B7: =VLOOKUP(B10,A18:B220,2,FALSE) -> 403 | F7: = | G7: =VLOOKUP(B11,F18:G220,2) -> 101 | J7: 場所 | K7: ="暗号化・復号例!"&CHAR(CODE("A")+K5)&"7" -> 暗号化・復号例!C7
J8: 文字 | K8: =INDIRECT(K7) -> 101
A9: n= | B9: =鍵生成!B7 -> 437
A10: e= | B10: =鍵生成!B10 -> 13
A11: d= | B11: =鍵生成!B14 -> 61
A16: Cの計算のための表 | F16: Mの計算のための表
A17: e | B17: C=(M^e)(mod n)=(M*M')( mod n) …. M'はe-1のときの C | F17: d | G17: M=(C^d)(mod n)=(C*C')( mod n) …. C'はd-1のときの M
A18: 1 | B18: =MOD(B$4,B9) -> 101 | F18: 1 | G18: =MOD(G$4,B9) -> 403
A19: =A18+1 -> 2 | B19: =MOD(B$4*B18,B$9) -> 150 | F19: =F18+1 -> 2 | G19: =MOD(G$4*G18,B$9) -> 282
A20: =A19+1 -> 3 | B20: =MOD(B$4*B19,B$9) -> 292 | F20: =F19+1 -> 3 | G20: =MOD(G$4*G19,B$9) -> 26
A21: =A20+1 -> 4 | B21: =MOD(B$4*B20,B$9) -> 213 | F21: =F20+1 -> 4 | G21: =MOD(G$4*G20,B$9) -> 427
A22: =A21+1 -> 5 | B22: =MOD(B$4*B21,B$9) -> 100 | F22: =F21+1 -> 5 | G22: =MOD(G$4*G21,B$9) -> 340
A23: =A22+1 -> 6 | B23: =MOD(B$4*B22,B$9) -> 49 | F23: =F22+1 -> 6 | G23: =MOD(G$4*G22,B$9) -> 239
A24: =A23+1 -> 7 | B24: =MOD(B$4*B23,B$9) -> 142 | F24: =F23+1 -> 7 | G24: =MOD(G$4*G23,B$9) -> 177
A25: =A24+1 -> 8 | B25: =MOD(B$4*B24,B$9) -> 358 | F25: =F24+1 -> 8 | G25: =MOD(G$4*G24,B$9) -> 100
A26: =A25+1 -> 9 | B26: =MOD(B$4*B25,B$9) -> 324 | F26: =F25+1 -> 9 | G26: =MOD(G$4*G25,B$9) -> 96
A27: =A26+1 -> 10 | B27: =MOD(B$4*B26,B$9) -> 386 | F27: =F26+1 -> 10 | G27: =MOD(G$4*G26,B$9) -> 232
A28: =A27+1 -> 11 | B28: =MOD(B$4*B27,B$9) -> 93 | F28: =F27+1 -> 11 | G28: =MOD(G$4*G27,B$9) -> 415
A29: =A28+1 -> 12 | B29: =MOD(B$4*B28,B$9) -> 216 | F29: =F28+1 -> 12 | G29: =MOD(G$4*G28,B$9) -> 311
A30: =A29+1 -> 13 | B30: =MOD(B$4*B29,B$9) -> 403 | F30: =F29+1 -> 13 | G30: =MOD(G$4*G29,B$9) -> 351
... A220: =A219+1 -> 203 | B220: =MOD(B$4*B219,B$9) -> 100 | F220: =F219+1 -> 203 | G220: =MOD(G$4*G219,B$9) -> 340

Sheet code-3
A2: 公開鍵{n,e}を使って平文Mを暗号化 | F2: 秘密鍵{n,d}を使って暗号文Cを復号
A4: *平文 M= | B4: =K8 -> 108 | F4: 暗号文 C= | G4: =B7 -> 72 | J4: このシート名 | K4: =RIGHT(CELL("filename",A2),LEN(CELL("filename",A2))-FIND("]",CELL("filename",A2))) -> code-3
A5: (Mは nより小さな整数) | J5: 番号 | K5: =MID(K4,6,LEN(K4)-5) -> 3
A6: 暗号文 C=(M^e )(mod n) | F6: 平文 M=(C^d)(mod n) | J6: このシートが担当する文字
A7: = | B7: =VLOOKUP(B10,A18:B220,2,FALSE) -> 72 | F7: = | G7: =VLOOKUP(B11,F18:G220,2) -> 108 | J7: 場所 | K7: ="暗号化・復号例!"&CHAR(CODE("A")+K5)&"7" -> 暗号化・復号例!D7
J8: 文字 | K8: =INDIRECT(K7) -> 108
A9: n= | B9: =鍵生成!B7 -> 437
A10: e= | B10: =鍵生成!B10 -> 13
A11: d= | B11: =鍵生成!B14 -> 61
A16: Cの計算のための表 | F16: Mの計算のための表
A17: e | B17: C=(M^e)(mod n)=(M*M')( mod n) …. M'はe-1のときの C | F17: d | G17: M=(C^d)(mod n)=(C*C')( mod n) …. C'はd-1のときの M
A18: 1 | B18: =MOD(B$4,B9) -> 108 | F18: 1 | G18: =MOD(G$4,B9) -> 72
A19: =A18+1 -> 2 | B19: =MOD(B$4*B18,B$9) -> 302 | F19: =F18+1 -> 2 | G19: =MOD(G$4*G18,B$9) -> 377
A20: =A19+1 -> 3 | B20: =MOD(B$4*B19,B$9) -> 278 | F20: =F19+1 -> 3 | G20: =MOD(G$4*G19,B$9) -> 50
A21: =A20+1 -> 4 | B21: =MOD(B$4*B20,B$9) -> 308 | F21: =F20+1 -> 4 | G21: =MOD(G$4*G20,B$9) -> 104
A22: =A21+1 -> 5 | B22: =MOD(B$4*B21,B$9) -> 52 | F22: =F21+1 -> 5 | G22: =MOD(G$4*G21,B$9) -> 59
A23: =A22+1 -> 6 | B23: =MOD(B$4*B22,B$9) -> 372 | F23: =F22+1 -> 6 | G23: =MOD(G$4*G22,B$9) -> 315
A24: =A23+1 -> 7 | B24: =MOD(B$4*B23,B$9) -> 409 | F24: =F23+1 -> 7 | G24: =MOD(G$4*G23,B$9) -> 393
A25: =A24+1 -> 8 | B25: =MOD(B$4*B24,B$9) -> 35 | F25: =F24+1 -> 8 | G25: =MOD(G$4*G24,B$9) -> 328
A26: =A25+1 -> 9 | B26: =MOD(B$4*B25,B$9) -> 284 | F26: =F25+1 -> 9 | G26: =MOD(G$4*G25,B$9) -> 18
A27: =A26+1 -> 10 | B27: =MOD(B$4*B26,B$9) -> 82 | F27: =F26+1 -> 10 | G27: =MOD(G$4*G26,B$9) -> 422
A28: =A27+1 -> 11 | B28: =MOD(B$4*B27,B$9) -> 116 | F28: =F27+1 -> 11 | G28: =MOD(G$4*G27,B$9) -> 231
A29: =A28+1 -> 12 | B29: =MOD(B$4*B28,B$9) -> 292 | F29: =F28+1 -> 12 | G29: =MOD(G$4*G28,B$9) -> 26
A30: =A29+1 -> 13 | B30: =MOD(B$4*B29,B$9) -> 72 | F30: =F29+1 -> 13 | G30: =MOD(G$4*G29,B$9) -> 124
... A220: =A219+1 -> 203 | B220: =MOD(B$4*B219,B$9) -> 52 | F220: =F219+1 -> 203 | G220: =MOD(G$4*G219,B$9) -> 59

Sheet code-4
A2: 公開鍵{n,e}を使って平文Mを暗号化 | F2: 秘密鍵{n,d}を使って暗号文Cを復号
A4: *平文 M= | B4: =K8 -> 108 | F4: 暗号文 C= | G4: =B7 -> 72 | J4: このシート名 | K4: =RIGHT(CELL("filename",A2),LEN(CELL("filename",A2))-FIND("]",CELL("filename",A2))) -> code-4
A5: (Mは nより小さな整数) | J5: 番号 | K5: =MID(K4,6,LEN(K4)-5) -> 4
A6: 暗号文 C=(M^e )(mod n) | F6: 平文 M=(C^d)(mod n) | J6: このシートが担当する文字
A7: = | B7: =VLOOKUP(B10,A18:B220,2,FALSE) -> 72 | F7: = | G7: =VLOOKUP(B11,F18:G220,2) -> 108 | J7: 場所 | K7: ="暗号化・復号例!"&CHAR(CODE("A")+K5)&"7" -> 暗号化・復号例!E7
J8: 文字 | K8: =INDIRECT(K7) -> 108
A9: n= | B9: =鍵生成!B7 -> 437
A10: e= | B10: =鍵生成!B10 -> 13
A11: d= | B11: =鍵生成!B14 -> 61
A16: Cの計算のための表 | F16: Mの計算のための表
A17: e | B17: C=(M^e)(mod n)=(M*M')( mod n) …. M'はe-1のときの C | F17: d | G17: M=(C^d)(mod n)=(C*C')( mod n) …. C'はd-1のときの M
A18: 1 | B18: =MOD(B$4,B9) -> 108 | F18: 1 | G18: =MOD(G$4,B9) -> 72
A19: =A18+1 -> 2 | B19: =MOD(B$4*B18,B$9) -> 302 | F19: =F18+1 -> 2 | G19: =MOD(G$4*G18,B$9) -> 377
A20: =A19+1 -> 3 | B20: =MOD(B$4*B19,B$9) -> 278 | F20: =F19+1 -> 3 | G20: =MOD(G$4*G19,B$9) -> 50
A21: =A20+1 -> 4 | B21: =MOD(B$4*B20,B$9) -> 308 | F21: =F20+1 -> 4 | G21: =MOD(G$4*G20,B$9) -> 104
A22: =A21+1 -> 5 | B22: =MOD(B$4*B21,B$9) -> 52 | F22: =F21+1 -> 5 | G22: =MOD(G$4*G21,B$9) -> 59
A23: =A22+1 -> 6 | B23: =MOD(B$4*B22,B$9) -> 372 | F23: =F22+1 -> 6 | G23: =MOD(G$4*G22,B$9) -> 315
A24: =A23+1 -> 7 | B24: =MOD(B$4*B23,B$9) -> 409 | F24: =F23+1 -> 7 | G24: =MOD(G$4*G23,B$9) -> 393
A25: =A24+1 -> 8 | B25: =MOD(B$4*B24,B$9) -> 35 | F25: =F24+1 -> 8 | G25: =MOD(G$4*G24,B$9) -> 328
A26: =A25+1 -> 9 | B26: =MOD(B$4*B25,B$9) -> 284 | F26: =F25+1 -> 9 | G26: =MOD(G$4*G25,B$9) -> 18
A27: =A26+1 -> 10 | B27: =MOD(B$4*B26,B$9) -> 82 | F27: =F26+1 -> 10 | G27: =MOD(G$4*G26,B$9) -> 422
A28: =A27+1 -> 11 | B28: =MOD(B$4*B27,B$9) -> 116 | F28: =F27+1 -> 11 | G28: =MOD(G$4*G27,B$9) -> 231
A29: =A28+1 -> 12 | B29: =MOD(B$4*B28,B$9) -> 292 | F29: =F28+1 -> 12 | G29: =MOD(G$4*G28,B$9) -> 26
A30: =A29+1 -> 13 | B30: =MOD(B$4*B29,B$9) -> 72 | F30: =F29+1 -> 13 | G30: =MOD(G$4*G29,B$9) -> 124
... A220: =A219+1 -> 203 | B220: =MOD(B$4*B219,B$9) -> 52 | F220: =F219+1 -> 203 | G220: =MOD(G$4*G219,B$9) -> 59

Sheet code-5
A2: 公開鍵{n,e}を使って平文Mを暗号化 | F2: 秘密鍵{n,d}を使って暗号文Cを復号
A4: *平文 M= | B4: =K8 -> 111 | F4: 暗号文 C= | G4: =B7 -> 214 | J4: このシート名 | K4: =RIGHT(CELL("filename",A2),LEN(CELL("filename",A2))-FIND("]",CELL("filename",A2))) -> code-5
A5: (Mは nより小さな整数) | J5: 番号 | K5: =MID(K4,6,LEN(K4)-5) -> 5
A6: 暗号文 C=(M^e )(mod n) | F6: 平文 M=(C^d)(mod n) | J6: このシートが担当する文字
A7: = | B7: =VLOOKUP(B10,A18:B220,2,FALSE) -> 214 | F7: = | G7: =VLOOKUP(B11,F18:G220,2) -> 111 | J7: 場所 | K7: ="暗号化・復号例!"&CHAR(CODE("A")+K5)&"7" -> 暗号化・復号例!F7
J8: 文字 | K8: =INDIRECT(K7) -> 111
A9: n= | B9: =鍵生成!B7 -> 437
A10: e= | B10: =鍵生成!B10 -> 13
A11: d= | B11: =鍵生成!B14 -> 61
A16: Cの計算のための表 | F16: Mの計算のための表
A17: e | B17: C=(M^e)(mod n)=(M*M')( mod n) …. M'はe-1のときの C | F17: d | G17: M=(C^d)(mod n)=(C*C')( mod n) …. C'はd-1のときの M
A18: 1 | B18: =MOD(B$4,B9) -> 111 | F18: 1 | G18: =MOD(G$4,B9) -> 214
A19: =A18+1 -> 2 | B19: =MOD(B$4*B18,B$9) -> 85 | F19: =F18+1 -> 2 | G19: =MOD(G$4*G18,B$9) -> 348
A20: =A19+1 -> 3 | B20: =MOD(B$4*B19,B$9) -> 258 | F20: =F19+1 -> 3 | G20: =MOD(G$4*G19,B$9) -> 182
A21: =A20+1 -> 4 | B21: =MOD(B$4*B20,B$9) -> 233 | F21: =F20+1 -> 4 | G21: =MOD(G$4*G20,B$9) -> 55
A22: =A21+1 -> 5 | B22: =MOD(B$4*B21,B$9) -> 80 | F22: =F21+1 -> 5 | G22: =MOD(G$4*G21,B$9) -> 408
A23: =A22+1 -> 6 | B23: =MOD(B$4*B22,B$9) -> 140 | F23: =F22+1 -> 6 | G23: =MOD(G$4*G22,B$9) -> 349
A24: =A23+1 -> 7 | B24: =MOD(B$4*B23,B$9) -> 245 | F24: =F23+1 -> 7 | G24: =MOD(G$4*G23,B$9) -> 396
A25: =A24+1 -> 8 | B25: =MOD(B$4*B24,B$9) -> 101 | F25: =F24+1 -> 8 | G25: =MOD(G$4*G24,B$9) -> 403
A26: =A25+1 -> 9 | B26: =MOD(B$4*B25,B$9) -> 286 | F26: =F25+1 -> 9 | G26: =MOD(G$4*G25,B$9) -> 153
A27: =A26+1 -> 10 | B27: =MOD(B$4*B26,B$9) -> 282 | F27: =F26+1 -> 10 | G27: =MOD(G$4*G26,B$9) -> 404
A28: =A27+1 -> 11 | B28: =MOD(B$4*B27,B$9) -> 275 | F28: =F27+1 -> 11 | G28: =MOD(G$4*G27,B$9) -> 367
A29: =A28+1 -> 12 | B29: =MOD(B$4*B28,B$9) -> 372 | F29: =F28+1 -> 12 | G29: =MOD(G$4*G28,B$9) -> 315
A30: =A29+1 -> 13 | B30: =MOD(B$4*B29,B$9) -> 214 | F30: =F29+1 -> 13 | G30: =MOD(G$4*G29,B$9) -> 112
... A220: =A219+1 -> 203 | B220: =MOD(B$4*B219,B$9) -> 80 | F220: =F219+1 -> 203 | G220: =MOD(G$4*G219,B$9) -> 408

Sheet code-6
A2: 公開鍵{n,e}を使って平文Mを暗号化 | F2: 秘密鍵{n,d}を使って暗号文Cを復号
A4: *平文 M= | B4: =K8 -> 32 | F4: 暗号文 C= | G4: =B7 -> 357 | J4: このシート名 | K4: =RIGHT(CELL("filename",A2),LEN(CELL("filename",A2))-FIND("]",CELL("filename",A2))) -> code-6
A5: (Mは nより小さな整数) | J5: 番号 | K5: =MID(K4,6,LEN(K4)-5) -> 6
A6: 暗号文 C=(M^e )(mod n) | F6: 平文 M=(C^d)(mod n) | J6: このシートが担当する文字
A7: = | B7: =VLOOKUP(B10,A18:B220,2,FALSE) -> 357 | F7: = | G7: =VLOOKUP(B11,F18:G220,2) -> 32 | J7: 場所 | K7: ="暗号化・復号例!"&CHAR(CODE("A")+K5)&"7" -> 暗号化・復号例!G7
J8: 文字 | K8: =INDIRECT(K7) -> 32
A9: n= | B9: =鍵生成!B7 -> 437
A10: e= | B10: =鍵生成!B10 -> 13
A11: d= | B11: =鍵生成!B14 -> 61
A16: Cの計算のための表 | F16: Mの計算のための表
A17: e | B17: C=(M^e)(mod n)=(M*M')( mod n) …. M'はe-1のときの C | F17: d | G17: M=(C^d)(mod n)=(C*C')( mod n) …. C'はd-1のときの M
A18: 1 | B18: =MOD(B$4,B9) -> 32 | F18: 1 | G18: =MOD(G$4,B9) -> 357
A19: =A18+1 -> 2 | B19: =MOD(B$4*B18,B$9) -> 150 | F19: =F18+1 -> 2 | G19: =MOD(G$4*G18,B$9) -> 282
A20: =A19+1 -> 3 | B20: =MOD(B$4*B19,B$9) -> 430 | F20: =F19+1 -> 3 | G20: =MOD(G$4*G19,B$9) -> 164
A21: =A20+1 -> 4 | B21: =MOD(B$4*B20,B$9) -> 213 | F21: =F20+1 -> 4 | G21: =MOD(G$4*G20,B$9) -> 427
A22: =A21+1 -> 5 | B22: =MOD(B$4*B21,B$9) -> 261 | F22: =F21+1 -> 5 | G22: =MOD(G$4*G21,B$9) -> 363
A23: =A22+1 -> 6 | B23: =MOD(B$4*B22,B$9) -> 49 | F23: =F22+1 -> 6 | G23: =MOD(G$4*G22,B$9) -> 239
A24: =A23+1 -> 7 | B24: =MOD(B$4*B23,B$9) -> 257 | F24: =F23+1 -> 7 | G24: =MOD(G$4*G23,B$9) -> 108
A25: =A24+1 -> 8 | B25: =MOD(B$4*B24,B$9) -> 358 | F25: =F24+1 -> 8 | G25: =MOD(G$4*G24,B$9) -> 100
A26: =A25+1 -> 9 | B26: =MOD(B$4*B25,B$9) -> 94 | F26: =F25+1 -> 9 | G26: =MOD(G$4*G25,B$9) -> 303
A27: =A26+1 -> 10 | B27: =MOD(B$4*B26,B$9) -> 386 | F27: =F26+1 -> 10 | G27: =MOD(G$4*G26,B$9) -> 232
A28: =A27+1 -> 11 | B28: =MOD(B$4*B27,B$9) -> 116 | F28: =F27+1 -> 11 | G28: =MOD(G$4*G27,B$9) -> 231
A29: =A28+1 -> 12 | B29: =MOD(B$4*B28,B$9) -> 216 | F29: =F28+1 -> 12 | G29: =MOD(G$4*G28,B$9) -> 311
A30: =A29+1 -> 13 | B30: =MOD(B$4*B29,B$9) -> 357 | F30: =F29+1 -> 13 | G30: =MOD(G$4*G29,B$9) -> 29
... A220: =A219+1 -> 203 | B220: =MOD(B$4*B219,B$9) -> 261 | F220: =F219+1 -> 203 | G220: =MOD(G$4*G219,B$9) -> 363

Sheet code-7
A2: 公開鍵{n,e}を使って平文Mを暗号化 | F2: 秘密鍵{n,d}を使って暗号文Cを復号
A4: *平文 M= | B4: =K8 -> 119 | F4: 暗号文 C= | G4: =B7 -> 131 | J4: このシート名 | K4: =RIGHT(CELL("filename",A2),LEN(CELL("filename",A2))-FIND("]",CELL("filename",A2))) -> code-7
A5: (Mは nより小さな整数) | J5: 番号 | K5: =MID(K4,6,LEN(K4)-5) -> 7
A6: 暗号文 C=(M^e )(mod n) | F6: 平文 M=(C^d)(mod n) | J6: このシートが担当する文字
A7: = | B7: =VLOOKUP(B10,A18:B220,2,FALSE) -> 131 | F7: = | G7: =VLOOKUP(B11,F18:G220,2) -> 119 | J7: 場所 | K7: ="暗号化・復号例!"&CHAR(CODE("A")+K5)&"7" -> 暗号化・復号例!H7
J8: 文字 | K8: =INDIRECT(K7) -> 119
A9: n= | B9: =鍵生成!B7 -> 437
A10: e= | B10: =鍵生成!B10 -> 13
A11: d= | B11: =鍵生成!B14 -> 61
A16: Cの計算のための表 | F16: Mの計算のための表
A17: e | B17: C=(M^e)(mod n)=(M*M')( mod n) …. M'はe-1のときの C | F17: d | G17: M=(C^d)(mod n)=(C*C')( mod n) …. C'はd-1のときの M
A18: 1 | B18: =MOD(B$4,B9) -> 119 | F18: 1 | G18: =MOD(G$4,B9) -> 131
A19: =A18+1 -> 2 | B19: =MOD(B$4*B18,B$9) -> 177 | F19: =F18+1 -> 2 | G19: =MOD(G$4*G18,B$9) -> 118
A20: =A19+1 -> 3 | B20: =MOD(B$4*B19,B$9) -> 87 | F20: =F19+1 -> 3 | G20: =MOD(G$4*G19,B$9) -> 163
A21: =A20+1 -> 4 | B21: =MOD(B$4*B20,B$9) -> 302 | F21: =F20+1 -> 4 | G21: =MOD(G$4*G20,B$9) -> 377
A22: =A21+1 -> 5 | B22: =MOD(B$4*B21,B$9) -> 104 | F22: =F21+1 -> 5 | G22: =MOD(G$4*G21,B$9) -> 6
A23: =A22+1 -> 6 | B23: =MOD(B$4*B22,B$9) -> 140 | F23: =F22+1 -> 6 | G23: =MOD(G$4*G22,B$9) -> 349
A24: =A23+1 -> 7 | B24: =MOD(B$4*B23,B$9) -> 54 | F24: =F23+1 -> 7 | G24: =MOD(G$4*G23,B$9) -> 271
A25: =A24+1 -> 8 | B25: =MOD(B$4*B24,B$9) -> 308 | F25: =F24+1 -> 8 | G25: =MOD(G$4*G24,B$9) -> 104
A26: =A25+1 -> 9 | B26: =MOD(B$4*B25,B$9) -> 381 | F26: =F25+1 -> 9 | G26: =MOD(G$4*G25,B$9) -> 77
A27: =A26+1 -> 10 | B27: =MOD(B$4*B26,B$9) -> 328 | F27: =F26+1 -> 10 | G27: =MOD(G$4*G26,B$9) -> 36
A28: =A27+1 -> 11 | B28: =MOD(B$4*B27,B$9) -> 139 | F28: =F27+1 -> 11 | G28: =MOD(G$4*G27,B$9) -> 346
A29: =A28+1 -> 12 | B29: =MOD(B$4*B28,B$9) -> 372 | F29: =F28+1 -> 12 | G29: =MOD(G$4*G28,B$9) -> 315
A30: =A29+1 -> 13 | B30: =MOD(B$4*B29,B$9) -> 131 | F30: =F29+1 -> 13 | G30: =MOD(G$4*G29,B$9) -> 187
... A220: =A219+1 -> 203 | B220: =MOD(B$4*B219,B$9) -> 104 | F220: =F219+1 -> 203 | G220: =MOD(G$4*G219,B$9) -> 6

Sheet code-8
A2: 公開鍵{n,e}を使って平文Mを暗号化 | F2: 秘密鍵{n,d}を使って暗号文Cを復号
A4: *平文 M= | B4: =K8 -> 111 | F4: 暗号文 C= | G4: =B7 -> 214 | J4: このシート名 | K4: =RIGHT(CELL("filename",A2),LEN(CELL("filename",A2))-FIND("]",CELL("filename",A2))) -> code-8
A5: (Mは nより小さな整数) | J5: 番号 | K5: =MID(K4,6,LEN(K4)-5) -> 8
A6: 暗号文 C=(M^e )(mod n) | F6: 平文 M=(C^d)(mod n) | J6: このシートが担当する文字
A7: = | B7: =VLOOKUP(B10,A18:B220,2,FALSE) -> 214 | F7: = | G7: =VLOOKUP(B11,F18:G220,2) -> 111 | J7: 場所 | K7: ="暗号化・復号例!"&CHAR(CODE("A")+K5)&"7" -> 暗号化・復号例!I7
J8: 文字 | K8: =INDIRECT(K7) -> 111
A9: n= | B9: =鍵生成!B7 -> 437
A10: e= | B10: =鍵生成!B10 -> 13
A11: d= | B11: =鍵生成!B14 -> 61
A16: Cの計算のための表 | F16: Mの計算のための表
A17: e | B17: C=(M^e)(mod n)=(M*M')( mod n) …. M'はe-1のときの C | F17: d | G17: M=(C^d)(mod n)=(C*C')( mod n) …. C'はd-1のときの M
A18: 1 | B18: =MOD(B$4,B9) -> 111 | F18: 1 | G18: =MOD(G$4,B9) -> 214
A19: =A18+1 -> 2 | B19: =MOD(B$4*B18,B$9) -> 85 | F19: =F18+1 -> 2 | G19: =MOD(G$4*G18,B$9) -> 348
A20: =A19+1 -> 3 | B20: =MOD(B$4*B19,B$9) -> 258 | F20: =F19+1 -> 3 | G20: =MOD(G$4*G19,B$9) -> 182
A21: =A20+1 -> 4 | B21: =MOD(B$4*B20,B$9) -> 233 | F21: =F20+1 -> 4 | G21: =MOD(G$4*G20,B$9) -> 55
A22: =A21+1 -> 5 | B22: =MOD(B$4*B21,B$9) -> 80 | F22: =F21+1 -> 5 | G22: =MOD(G$4*G21,B$9) -> 408
A23: =A22+1 -> 6 | B23: =MOD(B$4*B22,B$9) -> 140 | F23: =F22+1 -> 6 | G23: =MOD(G$4*G22,B$9) -> 349
A24: =A23+1 -> 7 | B24: =MOD(B$4*B23,B$9) -> 245 | F24: =F23+1 -> 7 | G24: =MOD(G$4*G23,B$9) -> 396
A25: =A24+1 -> 8 | B25: =MOD(B$4*B24,B$9) -> 101 | F25: =F24+1 -> 8 | G25: =MOD(G$4*G24,B$9) -> 403
A26: =A25+1 -> 9 | B26: =MOD(B$4*B25,B$9) -> 286 | F26: =F25+1 -> 9 | G26: =MOD(G$4*G25,B$9) -> 153
A27: =A26+1 -> 10 | B27: =MOD(B$4*B26,B$9) -> 282 | F27: =F26+1 -> 10 | G27: =MOD(G$4*G26,B$9) -> 404
A28: =A27+1 -> 11 | B28: =MOD(B$4*B27,B$9) -> 275 | F28: =F27+1 -> 11 | G28: =MOD(G$4*G27,B$9) -> 367
A29: =A28+1 -> 12 | B29: =MOD(B$4*B28,B$9) -> 372 | F29: =F28+1 -> 12 | G29: =MOD(G$4*G28,B$9) -> 315
A30: =A29+1 -> 13 | B30: =MOD(B$4*B29,B$9) -> 214 | F30: =F29+1 -> 13 | G30: =MOD(G$4*G29,B$9) -> 112
... A220: =A219+1 -> 203 | B220: =MOD(B$4*B219,B$9) -> 80 | F220: =F219+1 -> 203 | G220: =MOD(G$4*G219,B$9) -> 408

Sheet code-9
A2: 公開鍵{n,e}を使って平文Mを暗号化 | F2: 秘密鍵{n,d}を使って暗号文Cを復号
A4: *平文 M= | B4: =K8 -> 114 | F4: 暗号文 C= | G4: =B7 -> 114 | J4: このシート名 | K4: =RIGHT(CELL("filename",A2),LEN(CELL("filename",A2))-FIND("]",CELL("filename",A2))) -> code-9
A5: (Mは nより小さな整数) | J5: 番号 | K5: =MID(K4,6,LEN(K4)-5) -> 9
A6: 暗号文 C=(M^e )(mod n) | F6: 平文 M=(C^d)(mod n) | J6: このシートが担当する文字
A7: = | B7: =VLOOKUP(B10,A18:B220,2,FALSE) -> 114 | F7: = | G7: =VLOOKUP(B11,F18:G220,2) -> 114 | J7: 場所 | K7: ="暗号化・復号例!"&CHAR(CODE("A")+K5)&"7" -> 暗号化・復号例!J7
J8: 文字 | K8: =INDIRECT(K7) -> 114
A9: n= | B9: =鍵生成!B7 -> 437
A10: e= | B10: =鍵生成!B10 -> 13
A11: d= | B11: =鍵生成!B14 -> 61
A16: Cの計算のための表 | F16: Mの計算のための表
A17: e | B17: M^(M' mod n) …. M'はe-1のときの C | F17: d | G17: C^(C' mod n) …. C'はe-1のときの M
A18: 1 | B18: =MOD(B$4,B9) -> 114 | F18: 1 | G18: =MOD(G$4,B9) -> 114
A19: =A18+1 -> 2 | B19: =MOD(B$4*B18,B$9) -> 323 | F19: =F18+1 -> 2 | G19: =MOD(G$4*G18,B$9) -> 323
A20: =A19+1 -> 3 | B20: =MOD(B$4*B19,B$9) -> 114 | F20: =F19+1 -> 3 | G20: =MOD(G$4*G19,B$9) -> 114
A21: =A20+1 -> 4 | B21: =MOD(B$4*B20,B$9) -> 323 | F21: =F20+1 -> 4 | G21: =MOD(G$4*G20,B$9) -> 323
A22: =A21+1 -> 5 | B22: =MOD(B$4*B21,B$9) -> 114 | F22: =F21+1 -> 5 | G22: =MOD(G$4*G21,B$9) -> 114
A23: =A22+1 -> 6 | B23: =MOD(B$4*B22,B$9) -> 323 | F23: =F22+1 -> 6 | G23: =MOD(G$4*G22,B$9) -> 323
A24: =A23+1 -> 7 | B24: =MOD(B$4*B23,B$9) -> 114 | F24: =F23+1 -> 7 | G24: =MOD(G$4*G23,B$9) -> 114
A25: =A24+1 -> 8 | B25: =MOD(B$4*B24,B$9) -> 323 | F25: =F24+1 -> 8 | G25: =MOD(G$4*G24,B$9) -> 323
A26: =A25+1 -> 9 | B26: =MOD(B$4*B25,B$9) -> 114 | F26: =F25+1 -> 9 | G26: =MOD(G$4*G25,B$9) -> 114
A27: =A26+1 -> 10 | B27: =MOD(B$4*B26,B$9) -> 323 | F27: =F26+1 -> 10 | G27: =MOD(G$4*G26,B$9) -> 323
A28: =A27+1 -> 11 | B28: =MOD(B$4*B27,B$9) -> 114 | F28: =F27+1 -> 11 | G28: =MOD(G$4*G27,B$9) -> 114
A29: =A28+1 -> 12 | B29: =MOD(B$4*B28,B$9) -> 323 | F29: =F28+1 -> 12 | G29: =MOD(G$4*G28,B$9) -> 323
A30: =A29+1 -> 13 | B30: =MOD(B$4*B29,B$9) -> 114 | F30: =F29+1 -> 13 | G30: =MOD(G$4*G29,B$9) -> 114
... A220: =A219+1 -> 203 | B220: =MOD(B$4*B219,B$9) -> 114 | F220: =F219+1 -> 203 | G220: =MOD(G$4*G219,B$9) -> 114

Sheet code-10
A2: 公開鍵{n,e}を使って平文Mを暗号化 | F2: 秘密鍵{n,d}を使って暗号文Cを復号
A4: *平文 M= | B4: =K8 -> 108 | F4: 暗号文 C= | G4: =B7 -> 72 | J4: このシート名 | K4: =RIGHT(CELL("filename",A2),LEN(CELL("filename",A2))-FIND("]",CELL("filename",A2))) -> code-10
A5: (Mは nより小さな整数) | J5: 番号 | K5: =MID(K4,6,LEN(K4)-5) -> 10
A6: 暗号文 C=(M^e )(mod n) | F6: 平文 M=(C^d)(mod n) | J6: このシートが担当する文字
A7: = | B7: =VLOOKUP(B10,A18:B220,2,FALSE) -> 72 | F7: = | G7: =VLOOKUP(B11,F18:G220,2) -> 108 | J7: 場所 | K7: ="暗号化・復号例!"&CHAR(CODE("A")+K5)&"7" -> 暗号化・復号例!K7
J8: 文字 | K8: =INDIRECT(K7) -> 108
A9: n= | B9: =鍵生成!B7 -> 437
A10: e= | B10: =鍵生成!B10 -> 13
A11: d= | B11: =鍵生成!B14 -> 61
A16: Cの計算のための表 | F16: Mの計算のための表
A17: e | B17: M^(M' mod n) …. M'はe-1のときの C | F17: d | G17: C^(C' mod n) …. C'はe-1のときの M
A18: 1 | B18: =MOD(B$4,B9) -> 108 | F18: 1 | G18: =MOD(G$4,B9) -> 72
A19: =A18+1 -> 2 | B19: =MOD(B$4*B18,B$9) -> 302 | F19: =F18+1 -> 2 | G19: =MOD(G$4*G18,B$9) -> 377
A20: =A19+1 -> 3 | B20: =MOD(B$4*B19,B$9) -> 278 | F20: =F19+1 -> 3 | G20: =MOD(G$4*G19,B$9) -> 50
A21: =A20+1 -> 4 | B21: =MOD(B$4*B20,B$9) -> 308 | F21: =F20+1 -> 4 | G21: =MOD(G$4*G20,B$9) -> 104
A22: =A21+1 -> 5 | B22: =MOD(B$4*B21,B$9) -> 52 | F22: =F21+1 -> 5 | G22: =MOD(G$4*G21,B$9) -> 59
A23: =A22+1 -> 6 | B23: =MOD(B$4*B22,B$9) -> 372 | F23: =F22+1 -> 6 | G23: =MOD(G$4*G22,B$9) -> 315
A24: =A23+1 -> 7 | B24: =MOD(B$4*B23,B$9) -> 409 | F24: =F23+1 -> 7 | G24: =MOD(G$4*G23,B$9) -> 393
A25: =A24+1 -> 8 | B25: =MOD(B$4*B24,B$9) -> 35 | F25: =F24+1 -> 8 | G25: =MOD(G$4*G24,B$9) -> 328
A26: =A25+1 -> 9 | B26: =MOD(B$4*B25,B$9) -> 284 | F26: =F25+1 -> 9 | G26: =MOD(G$4*G25,B$9) -> 18
A27: =A26+1 -> 10 | B27: =MOD(B$4*B26,B$9) -> 82 | F27: =F26+1 -> 10 | G27: =MOD(G$4*G26,B$9) -> 422
A28: =A27+1 -> 11 | B28: =MOD(B$4*B27,B$9) -> 116 | F28: =F27+1 -> 11 | G28: =MOD(G$4*G27,B$9) -> 231
A29: =A28+1 -> 12 | B29: =MOD(B$4*B28,B$9) -> 292 | F29: =F28+1 -> 12 | G29: =MOD(G$4*G28,B$9) -> 26
A30: =A29+1 -> 13 | B30: =MOD(B$4*B29,B$9) -> 72 | F30: =F29+1 -> 13 | G30: =MOD(G$4*G29,B$9) -> 124
... A220: =A219+1 -> 203 | B220: =MOD(B$4*B219,B$9) -> 52 | F220: =F219+1 -> 203 | G220: =MOD(G$4*G219,B$9) -> 59

Sheet code-11
A2: 公開鍵{n,e}を使って平文Mを暗号化 | F2: 秘密鍵{n,d}を使って暗号文Cを復号
A4: *平文 M= | B4: =K8 -> 100 | F4: 暗号文 C= | G4: =B7 -> 340 | J4: このシート名 | K4: =RIGHT(CELL("filename",A2),LEN(CELL("filename",A2))-FIND("]",CELL("filename",A2))) -> code-11
A5: (Mは nより小さな整数) | J5: 番号 | K5: =MID(K4,6,LEN(K4)-5) -> 11
A6: 暗号文 C=(M^e )(mod n) | F6: 平文 M=(C^d)(mod n) | J6: このシートが担当する文字
A7: = | B7: =VLOOKUP(B10,A18:B220,2,FALSE) -> 340 | F7: = | G7: =VLOOKUP(B11,F18:G220,2) -> 100 | J7: 場所 | K7: ="暗号化・復号例!"&CHAR(CODE("A")+K5)&"7" -> 暗号化・復号例!L7
J8: 文字 | K8: =INDIRECT(K7) -> 100
A9: n= | B9: =鍵生成!B7 -> 437
A10: e= | B10: =鍵生成!B10 -> 13
A11: d= | B11: =鍵生成!B14 -> 61
A16: Cの計算のための表 | F16: Mの計算のための表
A17: e | B17: M^(M' mod n) …. M'はe-1のときの C | F17: d | G17: C^(C' mod n) …. C'はe-1のときの M
A18: 1 | B18: =MOD(B$4,B9) -> 100 | F18: 1 | G18: =MOD(G$4,B9) -> 340
A19: =A18+1 -> 2 | B19: =MOD(B$4*B18,B$9) -> 386 | F19: =F18+1 -> 2 | G19: =MOD(G$4*G18,B$9) -> 232
A20: =A19+1 -> 3 | B20: =MOD(B$4*B19,B$9) -> 144 | F20: =F19+1 -> 3 | G20: =MOD(G$4*G19,B$9) -> 220
A21: =A20+1 -> 4 | B21: =MOD(B$4*B20,B$9) -> 416 | F21: =F20+1 -> 4 | G21: =MOD(G$4*G20,B$9) -> 73
A22: =A21+1 -> 5 | B22: =MOD(B$4*B21,B$9) -> 85 | F22: =F21+1 -> 5 | G22: =MOD(G$4*G21,B$9) -> 348
A23: =A22+1 -> 6 | B23: =MOD(B$4*B22,B$9) -> 197 | F23: =F22+1 -> 6 | G23: =MOD(G$4*G22,B$9) -> 330
A24: =A23+1 -> 7 | B24: =MOD(B$4*B23,B$9) -> 35 | F24: =F23+1 -> 7 | G24: =MOD(G$4*G23,B$9) -> 328
A25: =A24+1 -> 8 | B25: =MOD(B$4*B24,B$9) -> 4 | F25: =F24+1 -> 8 | G25: =MOD(G$4*G24,B$9) -> 85
A26: =A25+1 -> 9 | B26: =MOD(B$4*B25,B$9) -> 400 | F26: =F25+1 -> 9 | G26: =MOD(G$4*G25,B$9) -> 58
A27: =A26+1 -> 10 | B27: =MOD(B$4*B26,B$9) -> 233 | F27: =F26+1 -> 10 | G27: =MOD(G$4*G26,B$9) -> 55
A28: =A27+1 -> 11 | B28: =MOD(B$4*B27,B$9) -> 139 | F28: =F27+1 -> 11 | G28: =MOD(G$4*G27,B$9) -> 346
A29: =A28+1 -> 12 | B29: =MOD(B$4*B28,B$9) -> 353 | F29: =F28+1 -> 12 | G29: =MOD(G$4*G28,B$9) -> 87
A30: =A29+1 -> 13 | B30: =MOD(B$4*B29,B$9) -> 340 | F30: =F29+1 -> 13 | G30: =MOD(G$4*G29,B$9) -> 301
... A220: =A219+1 -> 203 | B220: =MOD(B$4*B219,B$9) -> 85 | F220: =F219+1 -> 203 | G220: =MOD(G$4*G219,B$9) -> 348

Sheet code-12
A2: 公開鍵{n,e}を使って平文Mを暗号化 | F2: 秘密鍵{n,d}を使って暗号文Cを復号
A4: *平文 M= | B4: =K8 -> 33 | F4: 暗号文 C= | G4: =B7 -> 268 | J4: このシート名 | K4: =RIGHT(CELL("filename",A2),LEN(CELL("filename",A2))-FIND("]",CELL("filename",A2))) -> code-12
A5: (Mは nより小さな整数) | J5: 番号 | K5: =MID(K4,6,LEN(K4)-5) -> 12
A6: 暗号文 C=(M^e )(mod n) | F6: 平文 M=(C^d)(mod n) | J6: このシートが担当する文字
A7: = | B7: =VLOOKUP(B10,A18:B220,2,FALSE) -> 268 | F7: = | G7: =VLOOKUP(B11,F18:G220,2) -> 33 | J7: 場所 | K7: ="暗号化・復号例!"&CHAR(CODE("A")+K5)&"7" -> 暗号化・復号例!M7
J8: 文字 | K8: =INDIRECT(K7) -> 33
A9: n= | B9: =鍵生成!B7 -> 437
A10: e= | B10: =鍵生成!B10 -> 13
A11: d= | B11: =鍵生成!B14 -> 61
A16: Cの計算のための表 | F16: Mの計算のための表
A17: e | B17: M^(M' mod n) …. M'はe-1のときの C | F17: d | G17: C^(C' mod n) …. C'はe-1のときの M
A18: 1 | B18: =MOD(B$4,B9) -> 33 | F18: 1 | G18: =MOD(G$4,B9) -> 268
A19: =A18+1 -> 2 | B19: =MOD(B$4*B18,B$9) -> 215 | F19: =F18+1 -> 2 | G19: =MOD(G$4*G18,B$9) -> 156
A20: =A19+1 -> 3 | B20: =MOD(B$4*B19,B$9) -> 103 | F20: =F19+1 -> 3 | G20: =MOD(G$4*G19,B$9) -> 293
A21: =A20+1 -> 4 | B21: =MOD(B$4*B20,B$9) -> 340 | F21: =F20+1 -> 4 | G21: =MOD(G$4*G20,B$9) -> 301
A22: =A21+1 -> 5 | B22: =MOD(B$4*B21,B$9) -> 295 | F22: =F21+1 -> 5 | G22: =MOD(G$4*G21,B$9) -> 260
A23: =A22+1 -> 6 | B23: =MOD(B$4*B22,B$9) -> 121 | F23: =F22+1 -> 6 | G23: =MOD(G$4*G22,B$9) -> 197
A24: =A23+1 -> 7 | B24: =MOD(B$4*B23,B$9) -> 60 | F24: =F23+1 -> 7 | G24: =MOD(G$4*G23,B$9) -> 356
A25: =A24+1 -> 8 | B25: =MOD(B$4*B24,B$9) -> 232 | F25: =F24+1 -> 8 | G25: =MOD(G$4*G24,B$9) -> 142
A26: =A25+1 -> 9 | B26: =MOD(B$4*B25,B$9) -> 227 | F26: =F25+1 -> 9 | G26: =MOD(G$4*G25,B$9) -> 37
A27: =A26+1 -> 10 | B27: =MOD(B$4*B26,B$9) -> 62 | F27: =F26+1 -> 10 | G27: =MOD(G$4*G26,B$9) -> 302
A28: =A27+1 -> 11 | B28: =MOD(B$4*B27,B$9) -> 298 | F28: =F27+1 -> 11 | G28: =MOD(G$4*G27,B$9) -> 91
A29: =A28+1 -> 12 | B29: =MOD(B$4*B28,B$9) -> 220 | F29: =F28+1 -> 12 | G29: =MOD(G$4*G28,B$9) -> 353
A30: =A29+1 -> 13 | B30: =MOD(B$4*B29,B$9) -> 268 | F30: =F29+1 -> 13 | G30: =MOD(G$4*G29,B$9) -> 212
... A220: =A219+1 -> 203 | B220: =MOD(B$4*B219,B$9) -> 295 | F220: =F219+1 -> 203 | G220: =MOD(G$4*G219,B$9) -> 260
